{"text_format":"1","workbook":"xlsx","n_sheets":3,"sheets":["Disclaimer","USER_INPUT","DATA"],"not_rendered":{"charts":0,"images":1,"macros":1,"external_links":0,"defined_names":0,"comments":0,"pivot_tables":0},"unopened":[],"bounds":{"document_bytes":16777216,"sheet_cells":100000,"rows_first":2000,"rows_last":500,"rows_between":2000,"halvings":0,"cell_chars":16384,"cell_head_chars":4096},"cells_cut":0,"cells_raw":0,"read":"whole","date_system":"1900"}

{"sheet":"Disclaimer","index":0,"n_rows":22,"n_cols":11,"rows_kept":22,"cut":false,"hidden":false,"merged":[[9,3,10,8],[11,3,25,8],[21,10,25,14]]}
[]
[]
[]
[]
[]
[]
[]
[]
[]
[null,null,null,"Disclaimer"]
[]
[null,null,null,"This Design Calculation Spreadsheet is provided \"as-is\" without warranty of any kind. The Montana Department of Transportation makes no representations or warranties whatsoever with respect to the accuracy or completeness of this tool and assumes no responsibility for the suitability of this tool for a particular purpose; and MDT will not be liable for any damages incurred as a result of errors in this tool. \n\nBy selecting Accept, you are agreeing to these terms and conditions."]
[]
[]
[]
[]
[]
[]
[]
[]
[]
[null,null,null,null,null,null,null,null,null,null,"WARNING: \nFor the tool to work properly, please make sure you click on \"Enable Content/Macros\" if the security warning appears."]

{"sheet":"USER_INPUT","index":1,"n_rows":336,"n_cols":4,"rows_kept":336,"cut":false,"hidden":true,"merged":[[9,0,320,0],[0,0,0,7],[1,0,1,7],[7,3,7,5]]}
["MDT Stockpass Justification Worksheet"]
["Instructions: Enter data into the grey cells. The orange cells are drop down menus. Clicking each cell reveals instructions regarding what information to enter into that cell. "]
[]
["AADT from Montana Traffic Data"]
["WARM Recommends Wildlife Crossing"]
["Total Cattle Crossing Per Year"]
["Is decision Sight Distance Available?"]
["Will the Stock Pass act as Drainage?",null,null,"Value of Installed Drainage Structure"]
[]
["HIDE CELLS","Traffic Data"]
[null,10,{"$f":"$B11+19","v":29},{"$f":"IF(AND($B$4>=B11,$B$4<=C11),$B$322*(DATA!C2), 0)","v":0}]
[null,30,{"$f":"$B12+19","v":49},{"$f":"IF(AND($B$4>=B12,$B$4<=C12),$B$322*(DATA!C3), 0)","v":0}]
[null,50,{"$f":"$B13+19","v":69},{"$f":"IF(AND($B$4>=B13,$B$4<=C13),$B$322*(DATA!C4), 0)","v":0}]
[null,70,89,{"$f":"IF(AND($B$4>=B14,$B$4<=C14),$B$322*(DATA!C5), 0)","v":0}]
[null,90,109,{"$f":"IF(AND($B$4>=B15,$B$4<=C15),$B$322*(DATA!C6), 0)","v":0}]
[null,110,129,{"$f":"IF(AND($B$4>=B16,$B$4<=C16),$B$322*(DATA!C7), 0)","v":0}]
[null,130,149,{"$f":"IF(AND($B$4>=B17,$B$4<=C17),$B$322*(DATA!C8), 0)","v":0}]
[null,150,169,{"$f":"IF(AND($B$4>=B18,$B$4<=C18),$B$322*(DATA!C9), 0)","v":0}]
[null,170,189,{"$f":"IF(AND($B$4>=B19,$B$4<=C19),$B$322*(DATA!C10), 0)","v":0}]
[null,190,209,{"$f":"IF(AND($B$4>=B20,$B$4<=C20),$B$322*(DATA!C11), 0)","v":0}]
[null,210,229,{"$f":"IF(AND($B$4>=B21,$B$4<=C21),$B$322*(DATA!C12), 0)","v":0}]
[null,230,249,{"$f":"IF(AND($B$4>=B22,$B$4<=C22),$B$322*(DATA!C13), 0)","v":0}]
[null,250,269,{"$f":"IF(AND($B$4>=B23,$B$4<=C23),$B$322*(DATA!C14), 0)","v":0}]
[null,270,289,{"$f":"IF(AND($B$4>=B24,$B$4<=C24),$B$322*(DATA!C15), 0)","v":0}]
[null,290,309,{"$f":"IF(AND($B$4>=B25,$B$4<=C25),$B$322*(DATA!C16), 0)","v":0}]
[null,310,329,{"$f":"IF(AND($B$4>=B26,$B$4<=C26),$B$322*(DATA!C17), 0)","v":0}]
[null,330,349,{"$f":"IF(AND($B$4>=B27,$B$4<=C27),$B$322*(DATA!C18), 0)","v":0}]
[null,350,369,{"$f":"IF(AND($B$4>=B28,$B$4<=C28),$B$322*(DATA!C19), 0)","v":0}]
[null,370,389,{"$f":"IF(AND($B$4>=B29,$B$4<=C29),$B$322*(DATA!C20), 0)","v":0}]
[null,390,409,{"$f":"IF(AND($B$4>=B30,$B$4<=C30),$B$322*(DATA!C21), 0)","v":0}]
[null,410,429,{"$f":"IF(AND($B$4>=B31,$B$4<=C31),$B$322*(DATA!C22), 0)","v":0}]
[null,430,449,{"$f":"IF(AND($B$4>=B32,$B$4<=C32),$B$322*(DATA!C23), 0)","v":0}]
[null,450,469,{"$f":"IF(AND($B$4>=B33,$B$4<=C33),$B$322*(DATA!C24), 0)","v":0}]
[null,470,489,{"$f":"IF(AND($B$4>=B34,$B$4<=C34),$B$322*(DATA!C25), 0)","v":0}]
[null,490,509,{"$f":"IF(AND($B$4>=B35,$B$4<=C35),$B$322*(DATA!C26), 0)","v":0}]
[null,510,529,{"$f":"IF(AND($B$4>=B36,$B$4<=C36),$B$322*(DATA!C27), 0)","v":0}]
[null,530,549,{"$f":"IF(AND($B$4>=B37,$B$4<=C37),$B$322*(DATA!C28), 0)","v":0}]
[null,550,569,{"$f":"IF(AND($B$4>=B38,$B$4<=C38),$B$322*(DATA!C29), 0)","v":0}]
[null,570,589,{"$f":"IF(AND($B$4>=B39,$B$4<=C39),$B$322*(DATA!C30), 0)","v":0}]
[null,590,609,{"$f":"IF(AND($B$4>=B40,$B$4<=C40),$B$322*(DATA!C31), 0)","v":0}]
[null,610,629,{"$f":"IF(AND($B$4>=B41,$B$4<=C41),$B$322*(DATA!C32), 0)","v":0}]
[null,630,649,{"$f":"IF(AND($B$4>=B42,$B$4<=C42),$B$322*(DATA!C33), 0)","v":0}]
[null,650,669,{"$f":"IF(AND($B$4>=B43,$B$4<=C43),$B$322*(DATA!C34), 0)","v":0}]
[null,670,689,{"$f":"IF(AND($B$4>=B44,$B$4<=C44),$B$322*(DATA!C35), 0)","v":0}]
[null,690,709,{"$f":"IF(AND($B$4>=B45,$B$4<=C45),$B$322*(DATA!C36), 0)","v":0}]
[null,710,729,{"$f":"IF(AND($B$4>=B46,$B$4<=C46),$B$322*(DATA!C37), 0)","v":0}]
[null,730,749,{"$f":"IF(AND($B$4>=B47,$B$4<=C47),$B$322*(DATA!C38), 0)","v":0}]
[null,750,769,{"$f":"IF(AND($B$4>=B48,$B$4<=C48),$B$322*(DATA!C39), 0)","v":0}]
[null,770,789,{"$f":"IF(AND($B$4>=B49,$B$4<=C49),$B$322*(DATA!C40), 0)","v":0}]
[null,790,809,{"$f":"IF(AND($B$4>=B50,$B$4<=C50),$B$322*(DATA!C41), 0)","v":0}]
[null,810,829,{"$f":"IF(AND($B$4>=B51,$B$4<=C51),$B$322*(DATA!C42), 0)","v":0}]
[null,830,849,{"$f":"IF(AND($B$4>=B52,$B$4<=C52),$B$322*(DATA!C43), 0)","v":0}]
[null,850,869,{"$f":"IF(AND($B$4>=B53,$B$4<=C53),$B$322*(DATA!C44), 0)","v":0}]
[null,870,889,{"$f":"IF(AND($B$4>=B54,$B$4<=C54),$B$322*(DATA!C45), 0)","v":0}]
[null,890,909,{"$f":"IF(AND($B$4>=B55,$B$4<=C55),$B$322*(DATA!C46), 0)","v":0}]
[null,910,929,{"$f":"IF(AND($B$4>=B56,$B$4<=C56),$B$322*(DATA!C47), 0)","v":0}]
[null,930,949,{"$f":"IF(AND($B$4>=B57,$B$4<=C57),$B$322*(DATA!C48), 0)","v":0}]
[null,950,969,{"$f":"IF(AND($B$4>=B58,$B$4<=C58),$B$322*(DATA!C49), 0)","v":0}]
[null,970,989,{"$f":"IF(AND($B$4>=B59,$B$4<=C59),$B$322*(DATA!C50), 0)","v":0}]
[null,990,1009,{"$f":"IF(AND($B$4>=B60,$B$4<=C60),$B$322*(DATA!C51), 0)","v":0}]
[null,1010,1029,{"$f":"IF(AND($B$4>=B61,$B$4<=C61),$B$322*(DATA!C52), 0)","v":0}]
[null,1030,1049,{"$f":"IF(AND($B$4>=B62,$B$4<=C62),$B$322*(DATA!C53), 0)","v":0}]
[null,1050,1069,{"$f":"IF(AND($B$4>=B63,$B$4<=C63),$B$322*(DATA!C54), 0)","v":0}]
[null,1070,1089,{"$f":"IF(AND($B$4>=B64,$B$4<=C64),$B$322*(DATA!C55), 0)","v":0}]
[null,1090,1109,{"$f":"IF(AND($B$4>=B65,$B$4<=C65),$B$322*(DATA!C56), 0)","v":0}]
[null,1110,1129,{"$f":"IF(AND($B$4>=B66,$B$4<=C66),$B$322*(DATA!C57), 0)","v":0}]
[null,1130,1149,{"$f":"IF(AND($B$4>=B67,$B$4<=C67),$B$322*(DATA!C58), 0)","v":0}]
[null,1150,1169,{"$f":"IF(AND($B$4>=B68,$B$4<=C68),$B$322*(DATA!C59), 0)","v":0}]
[null,1170,1189,{"$f":"IF(AND($B$4>=B69,$B$4<=C69),$B$322*(DATA!C60), 0)","v":0}]
[null,1190,1209,{"$f":"IF(AND($B$4>=B70,$B$4<=C70),$B$322*(DATA!C61), 0)","v":0}]
[null,1210,1229,{"$f":"IF(AND($B$4>=B71,$B$4<=C71),$B$322*(DATA!C62), 0)","v":0}]
[null,1230,1249,{"$f":"IF(AND($B$4>=B72,$B$4<=C72),$B$322*(DATA!C63), 0)","v":0}]
[null,1250,1269,{"$f":"IF(AND($B$4>=B73,$B$4<=C73),$B$322*(DATA!C64), 0)","v":0}]
[null,1270,1289,{"$f":"IF(AND($B$4>=B74,$B$4<=C74),$B$322*(DATA!C65), 0)","v":0}]
[null,1290,1309,{"$f":"IF(AND($B$4>=B75,$B$4<=C75),$B$322*(DATA!C66), 0)","v":0}]
[null,1310,1329,{"$f":"IF(AND($B$4>=B76,$B$4<=C76),$B$322*(DATA!C67), 0)","v":0}]
[null,1330,{"$f":"$B77+19","v":1349},{"$f":"IF(AND($B$4>=B77,$B$4<=C77),$B$322*(DATA!C68), 0)","v":0}]
[null,1350,1369,{"$f":"IF(AND($B$4>=B78,$B$4<=C78),$B$322*(DATA!C69), 0)","v":0}]
[null,1370,1389,{"$f":"IF(AND($B$4>=B79,$B$4<=C79),$B$322*(DATA!C70), 0)","v":0}]
[null,1390,1409,{"$f":"IF(AND($B$4>=B80,$B$4<=C80),$B$322*(DATA!C71), 0)","v":0}]
[null,1410,1429,{"$f":"IF(AND($B$4>=B81,$B$4<=C81),$B$322*(DATA!C72), 0)","v":0}]
[null,1430,1449,{"$f":"IF(AND($B$4>=B82,$B$4<=C82),$B$322*(DATA!C73), 0)","v":0}]
[null,1450,1469,{"$f":"IF(AND($B$4>=B83,$B$4<=C83),$B$322*(DATA!C74), 0)","v":0}]
[null,1470,1489,{"$f":"IF(AND($B$4>=B84,$B$4<=C84),$B$322*(DATA!C75), 0)","v":0}]
[null,1490,1509,{"$f":"IF(AND($B$4>=B85,$B$4<=C85),$B$322*(DATA!C76), 0)","v":0}]
[null,1510,1529,{"$f":"IF(AND($B$4>=B86,$B$4<=C86),$B$322*(DATA!C77), 0)","v":0}]
[null,1530,1549,{"$f":"IF(AND($B$4>=B87,$B$4<=C87),$B$322*(DATA!C78), 0)","v":0}]
[null,1550,1569,{"$f":"IF(AND($B$4>=B88,$B$4<=C88),$B$322*(DATA!C79), 0)","v":0}]
[null,1570,1589,{"$f":"IF(AND($B$4>=B89,$B$4<=C89),$B$322*(DATA!C80), 0)","v":0}]
[null,1590,1609,{"$f":"IF(AND($B$4>=B90,$B$4<=C90),$B$322*(DATA!C81), 0)","v":0}]
[null,1610,1629,{"$f":"IF(AND($B$4>=B91,$B$4<=C91),$B$322*(DATA!C82), 0)","v":0}]
[null,1630,1649,{"$f":"IF(AND($B$4>=B92,$B$4<=C92),$B$322*(DATA!C83), 0)","v":0}]
[null,1650,1669,{"$f":"IF(AND($B$4>=B93,$B$4<=C93),$B$322*(DATA!C84), 0)","v":0}]
[null,1670,1689,{"$f":"IF(AND($B$4>=B94,$B$4<=C94),$B$322*(DATA!C85), 0)","v":0}]
[null,1690,1709,{"$f":"IF(AND($B$4>=B95,$B$4<=C95),$B$322*(DATA!C86), 0)","v":0}]
[null,1710,1729,{"$f":"IF(AND($B$4>=B96,$B$4<=C96),$B$322*(DATA!C87), 0)","v":0}]
[null,1730,1749,{"$f":"IF(AND($B$4>=B97,$B$4<=C97),$B$322*(DATA!C88), 0)","v":0}]
[null,1750,1769,{"$f":"IF(AND($B$4>=B98,$B$4<=C98),$B$322*(DATA!C89), 0)","v":0}]
[null,1770,1789,{"$f":"IF(AND($B$4>=B99,$B$4<=C99),$B$322*(DATA!C90), 0)","v":0}]
[null,1790,1809,{"$f":"IF(AND($B$4>=B100,$B$4<=C100),$B$322*(DATA!C91), 0)","v":0}]
[null,1810,1829,{"$f":"IF(AND($B$4>=B101,$B$4<=C101),$B$322*(DATA!C92), 0)","v":0}]
[null,1830,1849,{"$f":"IF(AND($B$4>=B102,$B$4<=C102),$B$322*(DATA!C93), 0)","v":0}]
[null,1850,1869,{"$f":"IF(AND($B$4>=B103,$B$4<=C103),$B$322*(DATA!C94), 0)","v":0}]
[null,1870,1889,{"$f":"IF(AND($B$4>=B104,$B$4<=C104),$B$322*(DATA!C95), 0)","v":0}]
[null,1890,1909,{"$f":"IF(AND($B$4>=B105,$B$4<=C105),$B$322*(DATA!C96), 0)","v":0}]
[null,1910,1929,{"$f":"IF(AND($B$4>=B106,$B$4<=C106),$B$322*(DATA!C97), 0)","v":0}]
[null,1930,1949,{"$f":"IF(AND($B$4>=B107,$B$4<=C107),$B$322*(DATA!C98), 0)","v":0}]
[null,1950,1969,{"$f":"IF(AND($B$4>=B108,$B$4<=C108),$B$322*(DATA!C99), 0)","v":0}]
[null,1970,{"$f":"$B109+19","v":1989},{"$f":"IF(AND($B$4>=B109,$B$4<=C109),$B$322*(DATA!C100), 0)","v":0}]
[null,1990,null,{"$f":"IF(AND($B$4>=B110),$B$322*(DATA!C101), 0)","v":0}]
[]
[null,"Number of Cattle on Road"]
[null,0,null,{"$f":"IF(AND($B$6=B113),$B$322*(DATA!C104), 0)","v":0}]
[null,1,null,{"$f":"IF(AND($B$6=B114),$B$322*(DATA!C105), 0)","v":0}]
[null,2,null,{"$f":"IF(AND($B$6=B115),$B$322*(DATA!C106), 0)","v":0}]
[null,3,null,{"$f":"IF(AND($B$6=B116),$B$322*(DATA!C107), 0)","v":0}]
[null,4,null,{"$f":"IF(AND($B$6=B117),$B$322*(DATA!C108), 0)","v":0}]
[null,5,null,{"$f":"IF(AND($B$6=B118),$B$322*(DATA!C109), 0)","v":0}]
[null,6,null,{"$f":"IF(AND($B$6=B119),$B$322*(DATA!C110), 0)","v":0}]
[null,7,null,{"$f":"IF(AND($B$6=B120),$B$322*(DATA!C111), 0)","v":0}]
[null,8,null,{"$f":"IF(AND($B$6=B121),$B$322*(DATA!C112), 0)","v":0}]
[null,9,null,{"$f":"IF(AND($B$6=B122),$B$322*(DATA!C113), 0)","v":0}]
[null,10,null,{"$f":"IF(AND($B$6=B123),$B$322*(DATA!C114), 0)","v":0}]
[null,11,null,{"$f":"IF(AND($B$6=B124),$B$322*(DATA!C115), 0)","v":0}]
[null,12,null,{"$f":"IF(AND($B$6=B125),$B$322*(DATA!C116), 0)","v":0}]
[null,13,null,{"$f":"IF(AND($B$6=B126),$B$322*(DATA!C117), 0)","v":0}]
[null,14,null,{"$f":"IF(AND($B$6=B127),$B$322*(DATA!C118), 0)","v":0}]
[null,15,null,{"$f":"IF(AND($B$6=B128),$B$322*(DATA!C119), 0)","v":0}]
[null,16,null,{"$f":"IF(AND($B$6=B129),$B$322*(DATA!C120), 0)","v":0}]
[null,17,null,{"$f":"IF(AND($B$6=B130),$B$322*(DATA!C121), 0)","v":0}]
[null,18,null,{"$f":"IF(AND($B$6=B131),$B$322*(DATA!C122), 0)","v":0}]
[null,19,null,{"$f":"IF(AND($B$6=B132),$B$322*(DATA!C123), 0)","v":0}]
[null,20,null,{"$f":"IF(AND($B$6=B133),$B$322*(DATA!C124), 0)","v":0}]
[null,21,null,{"$f":"IF(AND($B$6=B134),$B$322*(DATA!C125), 0)","v":0}]
[null,22,null,{"$f":"IF(AND($B$6=B135),$B$322*(DATA!C126), 0)","v":0}]
[null,23,null,{"$f":"IF(AND($B$6=B136),$B$322*(DATA!C127), 0)","v":0}]
[null,24,null,{"$f":"IF(AND($B$6=B137),$B$322*(DATA!C128), 0)","v":0}]
[null,25,null,{"$f":"IF(AND($B$6=B138),$B$322*(DATA!C129), 0)","v":0}]
[null,26,null,{"$f":"IF(AND($B$6=B139),$B$322*(DATA!C130), 0)","v":0}]
[null,27,null,{"$f":"IF(AND($B$6=B140),$B$322*(DATA!C131), 0)","v":0}]
[null,28,null,{"$f":"IF(AND($B$6=B141),$B$322*(DATA!C132), 0)","v":0}]
[null,29,null,{"$f":"IF(AND($B$6=B142),$B$322*(DATA!C133), 0)","v":0}]
[null,30,null,{"$f":"IF(AND($B$6=B143),$B$322*(DATA!C134), 0)","v":0}]
[null,31,null,{"$f":"IF(AND($B$6=B144),$B$322*(DATA!C135), 0)","v":0}]
[null,32,null,{"$f":"IF(AND($B$6=B145),$B$322*(DATA!C136), 0)","v":0}]
[null,33,null,{"$f":"IF(AND($B$6=B146),$B$322*(DATA!C137), 0)","v":0}]
[null,34,null,{"$f":"IF(AND($B$6=B147),$B$322*(DATA!C138), 0)","v":0}]
[null,35,null,{"$f":"IF(AND($B$6=B148),$B$322*(DATA!C139), 0)","v":0}]
[null,36,null,{"$f":"IF(AND($B$6=B149),$B$322*(DATA!C140), 0)","v":0}]
[null,37,null,{"$f":"IF(AND($B$6=B150),$B$322*(DATA!C141), 0)","v":0}]
[null,38,null,{"$f":"IF(AND($B$6=B151),$B$322*(DATA!C142), 0)","v":0}]
[null,39,null,{"$f":"IF(AND($B$6=B152),$B$322*(DATA!C143), 0)","v":0}]
[null,40,null,{"$f":"IF(AND($B$6=B153),$B$322*(DATA!C144), 0)","v":0}]
[null,41,null,{"$f":"IF(AND($B$6=B154),$B$322*(DATA!C145), 0)","v":0}]
[null,42,null,{"$f":"IF(AND($B$6=B155),$B$322*(DATA!C146), 0)","v":0}]
[null,43,null,{"$f":"IF(AND($B$6=B156),$B$322*(DATA!C147), 0)","v":0}]
[null,44,null,{"$f":"IF(AND($B$6=B157),$B$322*(DATA!C148), 0)","v":0}]
[null,45,null,{"$f":"IF(AND($B$6=B158),$B$322*(DATA!C149), 0)","v":0}]
[null,46,null,{"$f":"IF(AND($B$6=B159),$B$322*(DATA!C150), 0)","v":0}]
[null,47,null,{"$f":"IF(AND($B$6=B160),$B$322*(DATA!C151), 0)","v":0}]
[null,48,null,{"$f":"IF(AND($B$6=B161),$B$322*(DATA!C152), 0)","v":0}]
[null,49,null,{"$f":"IF(AND($B$6=B162),$B$322*(DATA!C153), 0)","v":0}]
[null,50,null,{"$f":"IF(AND($B$6=B163),$B$322*(DATA!C154), 0)","v":0}]
[null,51,null,{"$f":"IF(AND($B$6=B164),$B$322*(DATA!C155), 0)","v":0}]
[null,52,null,{"$f":"IF(AND($B$6=B165),$B$322*(DATA!C156), 0)","v":0}]
[null,53,null,{"$f":"IF(AND($B$6=B166),$B$322*(DATA!C157), 0)","v":0}]
[null,54,null,{"$f":"IF(AND($B$6=B167),$B$322*(DATA!C158), 0)","v":0}]
[null,55,null,{"$f":"IF(AND($B$6=B168),$B$322*(DATA!C159), 0)","v":0}]
[null,56,null,{"$f":"IF(AND($B$6=B169),$B$322*(DATA!C160), 0)","v":0}]
[null,57,null,{"$f":"IF(AND($B$6=B170),$B$322*(DATA!C161), 0)","v":0}]
[null,58,null,{"$f":"IF(AND($B$6=B171),$B$322*(DATA!C162), 0)","v":0}]
[null,59,null,{"$f":"IF(AND($B$6=B172),$B$322*(DATA!C163), 0)","v":0}]
[null,60,null,{"$f":"IF(AND($B$6=B173),$B$322*(DATA!C164), 0)","v":0}]
[null,61,null,{"$f":"IF(AND($B$6=B174),$B$322*(DATA!C165), 0)","v":0}]
[null,62,null,{"$f":"IF(AND($B$6=B175),$B$322*(DATA!C166), 0)","v":0}]
[null,63,null,{"$f":"IF(AND($B$6=B176),$B$322*(DATA!C167), 0)","v":0}]
[null,64,null,{"$f":"IF(AND($B$6=B177),$B$322*(DATA!C168), 0)","v":0}]
[null,65,null,{"$f":"IF(AND($B$6=B178),$B$322*(DATA!C169), 0)","v":0}]
[null,66,null,{"$f":"IF(AND($B$6=B179),$B$322*(DATA!C170), 0)","v":0}]
[null,67,null,{"$f":"IF(AND($B$6=B180),$B$322*(DATA!C171), 0)","v":0}]
[null,68,null,{"$f":"IF(AND($B$6=B181),$B$322*(DATA!C172), 0)","v":0}]
[null,69,null,{"$f":"IF(AND($B$6=B182),$B$322*(DATA!C173), 0)","v":0}]
[null,70,null,{"$f":"IF(AND($B$6=B183),$B$322*(DATA!C174), 0)","v":0}]
[null,71,null,{"$f":"IF(AND($B$6=B184),$B$322*(DATA!C175), 0)","v":0}]
[null,72,null,{"$f":"IF(AND($B$6=B185),$B$322*(DATA!C176), 0)","v":0}]
[null,73,null,{"$f":"IF(AND($B$6=B186),$B$322*(DATA!C177), 0)","v":0}]
[null,74,null,{"$f":"IF(AND($B$6=B187),$B$322*(DATA!C178), 0)","v":0}]
[null,75,null,{"$f":"IF(AND($B$6=B188),$B$322*(DATA!C179), 0)","v":0}]
[null,76,null,{"$f":"IF(AND($B$6=B189),$B$322*(DATA!C180), 0)","v":0}]
[null,77,null,{"$f":"IF(AND($B$6=B190),$B$322*(DATA!C181), 0)","v":0}]
[null,78,null,{"$f":"IF(AND($B$6=B191),$B$322*(DATA!C182), 0)","v":0}]
[null,79,null,{"$f":"IF(AND($B$6=B192),$B$322*(DATA!C183), 0)","v":0}]
[null,80,null,{"$f":"IF(AND($B$6=B193),$B$322*(DATA!C184), 0)","v":0}]
[null,81,null,{"$f":"IF(AND($B$6=B194),$B$322*(DATA!C185), 0)","v":0}]
[null,82,null,{"$f":"IF(AND($B$6=B195),$B$322*(DATA!C186), 0)","v":0}]
[null,83,null,{"$f":"IF(AND($B$6=B196),$B$322*(DATA!C187), 0)","v":0}]
[null,84,null,{"$f":"IF(AND($B$6=B197),$B$322*(DATA!C188), 0)","v":0}]
[null,85,null,{"$f":"IF(AND($B$6=B198),$B$322*(DATA!C189), 0)","v":0}]
[null,86,null,{"$f":"IF(AND($B$6=B199),$B$322*(DATA!C190), 0)","v":0}]
[null,87,null,{"$f":"IF(AND($B$6=B200),$B$322*(DATA!C191), 0)","v":0}]
[null,88,null,{"$f":"IF(AND($B$6=B201),$B$322*(DATA!C192), 0)","v":0}]
[null,89,null,{"$f":"IF(AND($B$6=B202),$B$322*(DATA!C193), 0)","v":0}]
[null,90,null,{"$f":"IF(AND($B$6=B203),$B$322*(DATA!C194), 0)","v":0}]
[null,91,null,{"$f":"IF(AND($B$6=B204),$B$322*(DATA!C195), 0)","v":0}]
[null,92,null,{"$f":"IF(AND($B$6=B205),$B$322*(DATA!C196), 0)","v":0}]
[null,93,null,{"$f":"IF(AND($B$6=B206),$B$322*(DATA!C197), 0)","v":0}]
[null,94,null,{"$f":"IF(AND($B$6=B207),$B$322*(DATA!C198), 0)","v":0}]
[null,95,null,{"$f":"IF(AND($B$6=B208),$B$322*(DATA!C199), 0)","v":0}]
[null,96,null,{"$f":"IF(AND($B$6=B209),$B$322*(DATA!C200), 0)","v":0}]
[null,97,null,{"$f":"IF(AND($B$6=B210),$B$322*(DATA!C201), 0)","v":0}]
[null,98,null,{"$f":"IF(AND($B$6=B211),$B$322*(DATA!C202), 0)","v":0}]
[null,99,null,{"$f":"IF(AND($B$6=B212),$B$322*(DATA!C203), 0)","v":0}]
[null,100,null,{"$f":"IF(AND($B$6=B213),$B$322*(DATA!C204), 0)","v":0}]
[null,101,null,{"$f":"IF(AND($B$6=B214),$B$322*(DATA!C205), 0)","v":0}]
[null,102,null,{"$f":"IF(AND($B$6=B215),$B$322*(DATA!C206), 0)","v":0}]
[null,103,null,{"$f":"IF(AND($B$6=B216),$B$322*(DATA!C207), 0)","v":0}]
[null,104,null,{"$f":"IF(AND($B$6=B217),$B$322*(DATA!C208), 0)","v":0}]
[null,105,null,{"$f":"IF(AND($B$6=B218),$B$322*(DATA!C209), 0)","v":0}]
[null,106,null,{"$f":"IF(AND($B$6=B219),$B$322*(DATA!C210), 0)","v":0}]
[null,107,null,{"$f":"IF(AND($B$6=B220),$B$322*(DATA!C211), 0)","v":0}]
[null,108,null,{"$f":"IF(AND($B$6=B221),$B$322*(DATA!C212), 0)","v":0}]
[null,109,null,{"$f":"IF(AND($B$6=B222),$B$322*(DATA!C213), 0)","v":0}]
[null,110,null,{"$f":"IF(AND($B$6=B223),$B$322*(DATA!C214), 0)","v":0}]
[null,111,null,{"$f":"IF(AND($B$6=B224),$B$322*(DATA!C215), 0)","v":0}]
[null,112,null,{"$f":"IF(AND($B$6=B225),$B$322*(DATA!C216), 0)","v":0}]
[null,113,null,{"$f":"IF(AND($B$6=B226),$B$322*(DATA!C217), 0)","v":0}]
[null,114,null,{"$f":"IF(AND($B$6=B227),$B$322*(DATA!C218), 0)","v":0}]
[null,115,null,{"$f":"IF(AND($B$6=B228),$B$322*(DATA!C219), 0)","v":0}]
[null,116,null,{"$f":"IF(AND($B$6=B229),$B$322*(DATA!C220), 0)","v":0}]
[null,117,null,{"$f":"IF(AND($B$6=B230),$B$322*(DATA!C221), 0)","v":0}]
[null,118,null,{"$f":"IF(AND($B$6=B231),$B$322*(DATA!C222), 0)","v":0}]
[null,119,null,{"$f":"IF(AND($B$6=B232),$B$322*(DATA!C223), 0)","v":0}]
[null,120,null,{"$f":"IF(AND($B$6=B233),$B$322*(DATA!C224), 0)","v":0}]
[null,121,null,{"$f":"IF(AND($B$6=B234),$B$322*(DATA!C225), 0)","v":0}]
[null,122,null,{"$f":"IF(AND($B$6=B235),$B$322*(DATA!C226), 0)","v":0}]
[null,123,null,{"$f":"IF(AND($B$6=B236),$B$322*(DATA!C227), 0)","v":0}]
[null,124,null,{"$f":"IF(AND($B$6=B237),$B$322*(DATA!C228), 0)","v":0}]
[null,125,null,{"$f":"IF(AND($B$6=B238),$B$322*(DATA!C229), 0)","v":0}]
[null,126,null,{"$f":"IF(AND($B$6=B239),$B$322*(DATA!C230), 0)","v":0}]
[null,127,null,{"$f":"IF(AND($B$6=B240),$B$322*(DATA!C231), 0)","v":0}]
[null,128,null,{"$f":"IF(AND($B$6=B241),$B$322*(DATA!C232), 0)","v":0}]
[null,129,null,{"$f":"IF(AND($B$6=B242),$B$322*(DATA!C233), 0)","v":0}]
[null,130,null,{"$f":"IF(AND($B$6=B243),$B$322*(DATA!C234), 0)","v":0}]
[null,131,null,{"$f":"IF(AND($B$6=B244),$B$322*(DATA!C235), 0)","v":0}]
[null,132,null,{"$f":"IF(AND($B$6=B245),$B$322*(DATA!C236), 0)","v":0}]
[null,133,null,{"$f":"IF(AND($B$6=B246),$B$322*(DATA!C237), 0)","v":0}]
[null,134,null,{"$f":"IF(AND($B$6=B247),$B$322*(DATA!C238), 0)","v":0}]
[null,135,null,{"$f":"IF(AND($B$6=B248),$B$322*(DATA!C239), 0)","v":0}]
[null,136,null,{"$f":"IF(AND($B$6=B249),$B$322*(DATA!C240), 0)","v":0}]
[null,137,null,{"$f":"IF(AND($B$6=B250),$B$322*(DATA!C241), 0)","v":0}]
[null,138,null,{"$f":"IF(AND($B$6=B251),$B$322*(DATA!C242), 0)","v":0}]
[null,139,null,{"$f":"IF(AND($B$6=B252),$B$322*(DATA!C243), 0)","v":0}]
[null,140,null,{"$f":"IF(AND($B$6=B253),$B$322*(DATA!C244), 0)","v":0}]
[null,141,null,{"$f":"IF(AND($B$6=B254),$B$322*(DATA!C245), 0)","v":0}]
[null,142,null,{"$f":"IF(AND($B$6=B255),$B$322*(DATA!C246), 0)","v":0}]
[null,143,null,{"$f":"IF(AND($B$6=B256),$B$322*(DATA!C247), 0)","v":0}]
[null,144,null,{"$f":"IF(AND($B$6=B257),$B$322*(DATA!C248), 0)","v":0}]
[null,145,null,{"$f":"IF(AND($B$6=B258),$B$322*(DATA!C249), 0)","v":0}]
[null,146,null,{"$f":"IF(AND($B$6=B259),$B$322*(DATA!C250), 0)","v":0}]
[null,147,null,{"$f":"IF(AND($B$6=B260),$B$322*(DATA!C251), 0)","v":0}]
[null,148,null,{"$f":"IF(AND($B$6=B261),$B$322*(DATA!C252), 0)","v":0}]
[null,149,null,{"$f":"IF(AND($B$6=B262),$B$322*(DATA!C253), 0)","v":0}]
[null,150,null,{"$f":"IF(AND($B$6=B263),$B$322*(DATA!C254), 0)","v":0}]
[null,151,null,{"$f":"IF(AND($B$6=B264),$B$322*(DATA!C255), 0)","v":0}]
[null,152,null,{"$f":"IF(AND($B$6=B265),$B$322*(DATA!C256), 0)","v":0}]
[null,153,null,{"$f":"IF(AND($B$6=B266),$B$322*(DATA!C257), 0)","v":0}]
[null,154,null,{"$f":"IF(AND($B$6=B267),$B$322*(DATA!C258), 0)","v":0}]
[null,155,null,{"$f":"IF(AND($B$6=B268),$B$322*(DATA!C259), 0)","v":0}]
[null,156,null,{"$f":"IF(AND($B$6=B269),$B$322*(DATA!C260), 0)","v":0}]
[null,157,null,{"$f":"IF(AND($B$6=B270),$B$322*(DATA!C261), 0)","v":0}]
[null,158,null,{"$f":"IF(AND($B$6=B271),$B$322*(DATA!C262), 0)","v":0}]
[null,159,null,{"$f":"IF(AND($B$6=B272),$B$322*(DATA!C263), 0)","v":0}]
[null,160,null,{"$f":"IF(AND($B$6=B273),$B$322*(DATA!C264), 0)","v":0}]
[null,161,null,{"$f":"IF(AND($B$6=B274),$B$322*(DATA!C265), 0)","v":0}]
[null,162,null,{"$f":"IF(AND($B$6=B275),$B$322*(DATA!C266), 0)","v":0}]
[null,163,null,{"$f":"IF(AND($B$6=B276),$B$322*(DATA!C267), 0)","v":0}]
[null,164,null,{"$f":"IF(AND($B$6=B277),$B$322*(DATA!C268), 0)","v":0}]
[null,165,null,{"$f":"IF(AND($B$6=B278),$B$322*(DATA!C269), 0)","v":0}]
[null,166,null,{"$f":"IF(AND($B$6=B279),$B$322*(DATA!C270), 0)","v":0}]
[null,167,null,{"$f":"IF(AND($B$6=B280),$B$322*(DATA!C271), 0)","v":0}]
[null,168,null,{"$f":"IF(AND($B$6=B281),$B$322*(DATA!C272), 0)","v":0}]
[null,169,null,{"$f":"IF(AND($B$6=B282),$B$322*(DATA!C273), 0)","v":0}]
[null,170,null,{"$f":"IF(AND($B$6=B283),$B$322*(DATA!C274), 0)","v":0}]
[null,171,null,{"$f":"IF(AND($B$6=B284),$B$322*(DATA!C275), 0)","v":0}]
[null,172,null,{"$f":"IF(AND($B$6=B285),$B$322*(DATA!C276), 0)","v":0}]
[null,173,null,{"$f":"IF(AND($B$6=B286),$B$322*(DATA!C277), 0)","v":0}]
[null,174,null,{"$f":"IF(AND($B$6=B287),$B$322*(DATA!C278), 0)","v":0}]
[null,175,null,{"$f":"IF(AND($B$6=B288),$B$322*(DATA!C279), 0)","v":0}]
[null,176,null,{"$f":"IF(AND($B$6=B289),$B$322*(DATA!C280), 0)","v":0}]
[null,177,null,{"$f":"IF(AND($B$6=B290),$B$322*(DATA!C281), 0)","v":0}]
[null,178,null,{"$f":"IF(AND($B$6=B291),$B$322*(DATA!C282), 0)","v":0}]
[null,179,null,{"$f":"IF(AND($B$6=B292),$B$322*(DATA!C283), 0)","v":0}]
[null,180,null,{"$f":"IF(AND($B$6=B293),$B$322*(DATA!C284), 0)","v":0}]
[null,181,null,{"$f":"IF(AND($B$6=B294),$B$322*(DATA!C285), 0)","v":0}]
[null,182,null,{"$f":"IF(AND($B$6=B295),$B$322*(DATA!C286), 0)","v":0}]
[null,183,null,{"$f":"IF(AND($B$6=B296),$B$322*(DATA!C287), 0)","v":0}]
[null,184,null,{"$f":"IF(AND($B$6=B297),$B$322*(DATA!C288), 0)","v":0}]
[null,185,null,{"$f":"IF(AND($B$6=B298),$B$322*(DATA!C289), 0)","v":0}]
[null,186,null,{"$f":"IF(AND($B$6=B299),$B$322*(DATA!C290), 0)","v":0}]
[null,187,null,{"$f":"IF(AND($B$6=B300),$B$322*(DATA!C291), 0)","v":0}]
[null,188,null,{"$f":"IF(AND($B$6=B301),$B$322*(DATA!C292), 0)","v":0}]
[null,189,null,{"$f":"IF(AND($B$6=B302),$B$322*(DATA!C293), 0)","v":0}]
[null,190,null,{"$f":"IF(AND($B$6=B303),$B$322*(DATA!C294), 0)","v":0}]
[null,191,null,{"$f":"IF(AND($B$6=B304),$B$322*(DATA!C295), 0)","v":0}]
[null,192,null,{"$f":"IF(AND($B$6=B305),$B$322*(DATA!C296), 0)","v":0}]
[null,193,null,{"$f":"IF(AND($B$6=B306),$B$322*(DATA!C297), 0)","v":0}]
[null,194,null,{"$f":"IF(AND($B$6=B307),$B$322*(DATA!C298), 0)","v":0}]
[null,195,null,{"$f":"IF(AND($B$6=B308),$B$322*(DATA!C299), 0)","v":0}]
[null,196,null,{"$f":"IF(AND($B$6=B309),$B$322*(DATA!C300), 0)","v":0}]
[null,197,null,{"$f":"IF(AND($B$6=B310),$B$322*(DATA!C301), 0)","v":0}]
[null,198,null,{"$f":"IF(AND($B$6=B311),$B$322*(DATA!C302), 0)","v":0}]
[null,199,null,{"$f":"IF(AND($B$6=B312),$B$322*(DATA!C303), 0)","v":0}]
[null,200,null,{"$f":"IF(AND($B$6>=B313),$B$322*(DATA!C304),0)","v":0}]
[]
[null,"Decision Sight Distance"]
[null,"Available",null,{"$f":"IF(($B$7=\"YES\"),0,0)","v":0}]
[null,"Not Available",null,{"$f":"IF(AND($B$7=\"NO\"),$B$322*(DATA!$C$308), 0)","v":0}]
[]
[null,"Combined Use as Drainage"]
[null,"Yes",null,{"$f":"IF(AND($B$8=\"YES\"),G8,0)","v":0}]
[null,"No",null,{"$f":"IF(($B$8=\"NO\"),\"\",0)","v":0}]
["Estimated Cost of Stock Pass"]
["MDT Cost Share",{"$f":"IF(AND($B$5=\"YES\"),B322,IF($B$5=\"NO\",MIN($B$322,(SUM(D9:D317)+D320))))","v":false},null,{"$f":"IF($B$323=0,\"0%\",($B$323/$B$322))","v":{"$error":"#DIV/0!"}}]
["Landowner Cost Share",{"$f":"IF($B$5=\"YES\",\"$0\",IF($B$5=\"NO\",MAX(0,B322-B323,0)))","v":false},null,{"$f":"IF($B$324=0,\"0%\",($B$324/$B$322))","v":{"$error":"#DIV/0!"}}]
[]
["Cost Share:","YES/NO",null,{"$f":"IF(AND($D$323>=0.25,$D$323<=0.5,$D$324<=0.75),\"YES\",\"NO\")","v":{"$error":"#DIV/0!"}}]
["MDT Share(Landowner Cost >75%):",null,null,{"$f":"IF(AND($D$326=\"NO\",$D$324>=0.75),\"$0\")","v":{"$error":"#DIV/0!"}}]
["MDT Share(MDT Cost >51%):",null,null,{"$f":"IF(AND($D$326=\"NO\",$D$323>=0.5),$B$322)","v":{"$error":"#DIV/0!"}}]
["MDT Share( MDT/Landowner Split):",null,null,{"$f":"IF(AND($D$326=\"YES\",$D$324<=0.75, $D$323<=0.5, $D$323>=0.25),$D$323*$B$322)","v":{"$error":"#DIV/0!"}}]
["Landowner Share(MDT Cost >51%):",null,null,{"$f":"IF(AND($D$326=\"NO\",$D$323>=0.5),\"$0\")","v":{"$error":"#DIV/0!"}}]
["Landowner Share(Landowner Cost >75%):",null,null,{"$f":"IF(AND($D$326=\"NO\",$D$323<=0.25),$B$322)","v":{"$error":"#DIV/0!"}}]
["Landowner Share( MDT/Landowner Split):",null,null,{"$f":"IF(AND($D$326=\"YES\",$D$324<=0.75, $D$323<=0.5, $D$323>=0.25),$D$324*$B$322)","v":{"$error":"#DIV/0!"}}]
[]
["COST SHARE",{"$f":"D326","v":{"$error":"#DIV/0!"}}]
["MDT SHARE",{"$f":"SUM(D327:D329)","v":{"$error":"#DIV/0!"}},null,{"$f":"IF($B$335=0,\"0%\",($B$335/$B$322))","v":{"$error":"#DIV/0!"}}]
["LANDOWNER SHARE:",{"$f":"SUM(D330:D332)","v":{"$error":"#DIV/0!"}},null,{"$f":"IF($B$336=0,\"0%\",($B$336/$B$322))","v":{"$error":"#DIV/0!"}}]

{"sheet":"DATA","index":2,"n_rows":316,"n_cols":8,"rows_kept":316,"cut":false,"hidden":true,"merged":[[306,0,306,1],[305,0,305,1],[102,0,102,1],[313,0,313,4],[314,0,314,1],[315,0,315,1],[314,2,314,4],[307,0,307,1],[309,0,309,1],[310,0,310,1],[311,0,311,1]]}
["Traffic Data",null,"Multiplier"]
[10,null,7.5399999999999998E-3]
[30,null,1.508E-2]
[50,null,2.2620000000000001E-2]
[70,null,3.0159999999999999E-2]
[90,null,3.7699999999999997E-2]
[110,null,4.5240000000000002E-2]
[130,null,5.2780000000000001E-2]
[150,null,6.0319999999999999E-2]
[170,null,6.7860000000000004E-2]
[190,null,7.5399999999999995E-2]
[210,null,8.294E-2]
[230,null,9.0480000000000005E-2]
[250,null,9.8019999999999996E-2]
[270,null,0.10556]
[290,null,0.11310000000000001]
[310,null,0.12064]
[330,null,0.12817999999999999]
[350,null,0.13572000000000001]
[370,null,0.14326]
[390,null,0.15079999999999999]
[410,null,0.15834000000000001]
[430,null,0.16588]
[450,null,0.17341999999999999]
[470,null,0.18096000000000001]
[490,null,0.1885]
[510,null,0.19603999999999999]
[530,null,0.20358000000000001]
[550,null,0.21112]
[570,null,0.21865999999999999]
[590,null,0.22620000000000001]
[610,null,0.23374]
[630,null,0.24127999999999999]
[650,null,0.24882000000000001]
[670,null,0.25635999999999998]
[690,null,0.26390000000000002]
[710,null,0.27144000000000001]
[730,null,0.27898000000000001]
[750,null,0.28652]
[770,null,0.29405999999999999]
[790,null,0.30159999999999998]
[810,null,0.30914000000000003]
[830,null,0.31668000000000002]
[850,null,0.32422000000000001]
[870,null,0.33176]
[890,null,0.33929999999999999]
[910,null,0.34683999999999998]
[930,null,0.35437999999999997]
[950,null,0.36192000000000002]
[970,null,0.36946000000000001]
[990,null,0.377]
[1010,null,0.38453999999999999]
[1030,null,0.39207999999999998]
[1050,null,0.39961999999999998]
[1070,null,0.40716000000000002]
[1090,null,0.41470000000000001]
[1110,null,0.42224]
[1130,null,0.42978]
[1150,null,0.43731999999999999]
[1170,null,0.44485999999999998]
[1190,null,0.45240000000000002]
[1210,null,0.45994000000000002]
[1230,null,0.46748000000000001]
[1250,null,0.47502]
[1270,null,0.48255999999999999]
[1290,null,0.49009999999999998]
[1310,null,0.49764000000000003]
[1330,null,0.50517999999999996]
[1350,null,0.51271999999999995]
[1370,null,0.52025999999999994]
[1390,null,0.52780000000000005]
[1410,null,0.53534000000000004]
[1430,null,0.54288000000000003]
[1450,null,0.55042000000000002]
[1470,null,0.55796000000000001]
[1490,null,0.5655]
[1510,null,0.57303999999999999]
[1530,null,0.58057999999999998]
[1550,null,0.58811999999999998]
[1570,null,0.59565999999999997]
[1590,null,0.60319999999999996]
[1610,null,0.61073999999999995]
[1630,null,0.61828000000000005]
[1650,null,0.62582000000000004]
[1670,null,0.63336000000000003]
[1690,null,0.64090000000000003]
[1710,null,0.64844000000000002]
[1730,null,0.65598000000000001]
[1750,null,0.66352]
[1770,null,0.67105999999999999]
[1790,null,0.67859999999999998]
[1810,null,0.68613999999999997]
[1830,null,0.69367999999999996]
[1850,null,0.70121999999999995]
[1870,null,0.70875999999999995]
[1890,null,0.71630000000000005]
[1910,null,0.72384000000000004]
[1930,null,0.73138000000000003]
[1950,null,0.73892000000000002]
[1970,null,0.74646000000000001]
[1990,null,0.75]
[]
["Number of Cattle on Road"]
[0,null,0]
[1,null,3.7499999999999999E-3]
[2,null,7.4999999999999997E-3]
[3,null,1.125E-2]
[4,null,1.4999999999999999E-2]
[5,null,1.8749999999999999E-2]
[6,null,2.2499999999999999E-2]
[7,null,2.6249999999999999E-2]
[8,null,0.03]
[9,null,3.3750000000000002E-2]
[10,null,3.7499999999999999E-2]
[11,null,4.1250000000000002E-2]
[12,null,4.4999999999999998E-2]
[13,null,4.8750000000000002E-2]
[14,null,5.2499999999999998E-2]
[15,null,5.6250000000000001E-2]
[16,null,0.06]
[17,null,6.3750000000000001E-2]
[18,null,6.7500000000000004E-2]
[19,null,7.1249999999999994E-2,null,null,null,null,"Cattle cannot in and of itself justify the stockpass"]
[20,null,7.4999999999999997E-2]
[21,null,7.8750000000000001E-2]
[22,null,8.2500000000000004E-2]
[23,null,8.6249999999999993E-2]
[24,null,0.09]
[25,null,9.375E-2]
[26,null,9.7500000000000003E-2]
[27,null,0.10125000000000001]
[28,null,0.105]
[29,null,0.10875]
[30,null,0.1125]
[31,null,0.11625000000000001]
[32,null,0.12]
[33,null,0.12375]
[34,null,0.1275]
[35,null,0.13125000000000001]
[36,null,0.13500000000000001]
[37,null,0.13875000000000001]
[38,null,0.14249999999999999]
[39,null,0.14624999999999999]
[40,null,0.15]
[41,null,0.15375]
[42,null,0.1575]
[43,null,0.16125]
[44,null,0.16500000000000001]
[45,null,0.16875000000000001]
[46,null,0.17249999999999999]
[47,null,0.17624999999999999]
[48,null,0.18]
[49,null,0.18375]
[50,null,0.1875]
[51,null,0.19125]
[52,null,0.19500000000000001]
[53,null,0.19875000000000001]
[54,null,0.20250000000000001]
[55,null,0.20624999999999999]
[56,null,0.21]
[57,null,0.21375]
[58,null,0.2175]
[59,null,0.22125]
[60,null,0.22500000000000001]
[61,null,0.22875000000000001]
[62,null,0.23250000000000001]
[63,null,0.23624999999999999]
[64,null,0.24]
[65,null,0.24374999999999999]
[66,null,0.2475]
[67,null,0.25124999999999997]
[68,null,0.255]
[69,null,0.25874999999999998]
[70,null,0.26250000000000001]
[71,null,0.26624999999999999]
[72,null,0.27]
[73,null,0.27374999999999999]
[74,null,0.27750000000000002]
[75,null,0.28125]
[76,null,0.28499999999999998]
[77,null,0.28875000000000001]
[78,null,0.29249999999999998]
[79,null,0.29625000000000001]
[80,null,0.3]
[81,null,0.30375000000000002]
[82,null,0.3075]
[83,null,0.31125000000000003]
[84,null,0.315]
[85,null,0.31874999999999998]
[86,null,0.32250000000000001]
[87,null,0.32624999999999998]
[88,null,0.33]
[89,null,0.33374999999999999]
[90,null,0.33750000000000002]
[91,null,0.34125]
[92,null,0.34499999999999997]
[93,null,0.34875]
[94,null,0.35249999999999998]
[95,null,0.35625000000000001]
[96,null,0.36]
[97,null,0.36375000000000002]
[98,null,0.36749999999999999]
[99,null,0.37125000000000002]
[100,null,0.375]
[101,null,0.37874999999999998]
[102,null,0.38250000000000001]
[103,null,0.38624999999999998]
[104,null,0.39]
[105,null,0.39374999999999999]
[106,null,0.39750000000000002]
[107,null,0.40125]
[108,null,0.40500000000000003]
[109,null,0.40875]
[110,null,0.41249999999999998]
[111,null,0.41625000000000001]
[112,null,0.42]
[113,null,0.42375000000000002]
[114,null,0.42749999999999999]
[115,null,0.43125000000000002]
[116,null,0.435]
[117,null,0.43874999999999997]
[118,null,0.4425]
[119,null,0.44624999999999998]
[120,null,0.45]
[121,null,0.45374999999999999]
[122,null,0.45750000000000002]
[123,null,0.46124999999999999]
[124,null,0.46500000000000002]
[125,null,0.46875]
[126,null,0.47249999999999998]
[127,null,0.47625000000000001]
[128,null,0.48]
[129,null,0.48375000000000001]
[130,null,0.48749999999999999]
[131,null,0.49125000000000002]
[132,null,0.495]
[133,null,0.49875000000000003]
[134,null,0.50249999999999995]
[135,null,0.50624999999999998]
[136,null,0.51]
[137,null,0.51375000000000004]
[138,null,0.51749999999999996]
[139,null,0.52124999999999999]
[140,null,0.52500000000000002]
[141,null,0.52875000000000005]
[142,null,0.53249999999999997]
[143,null,0.53625]
[144,null,0.54]
[145,null,0.54374999999999996]
[146,null,0.54749999999999999]
[147,null,0.55125000000000002]
[148,null,0.55500000000000005]
[149,null,0.55874999999999997]
[150,null,0.5625]
[151,null,0.56625000000000003]
[152,null,0.56999999999999995]
[153,null,0.57374999999999998]
[154,null,0.57750000000000001]
[155,null,0.58125000000000004]
[156,null,0.58499999999999996]
[157,null,0.58875]
[158,null,0.59250000000000003]
[159,null,0.59624999999999995]
[160,null,0.6]
[161,null,0.60375000000000001]
[162,null,0.60750000000000004]
[163,null,0.61124999999999996]
[164,null,0.61499999999999999]
[165,null,0.61875000000000002]
[166,null,0.62250000000000005]
[167,null,0.62624999999999997]
[168,null,0.63]
[169,null,0.63375000000000004]
[170,null,0.63749999999999996]
[171,null,0.64124999999999999]
[172,null,0.64500000000000002]
[173,null,0.64875000000000005]
[174,null,0.65249999999999997]
[175,null,0.65625]
[176,null,0.66]
[177,null,0.66374999999999995]
[178,null,0.66749999999999998]
[179,null,0.67125000000000001]
[180,null,0.67500000000000004]
[181,null,0.67874999999999996]
[182,null,0.6825]
[183,null,0.68625000000000003]
[184,null,0.69]
[185,null,0.69374999999999998]
[186,null,0.69750000000000001]
[187,null,0.70125000000000004]
[188,null,0.70499999999999996]
[189,null,0.70874999999999999]
[190,null,0.71250000000000002]
[191,null,0.71625000000000005]
[192,null,0.72]
[193,null,0.72375]
[194,null,0.72750000000000004]
[195,null,0.73124999999999996]
[196,null,0.73499999999999999]
[197,null,0.73875000000000002]
[198,null,0.74250000000000005]
[199,null,0.74624999999999997]
[200,null,0.75]
[]
["Decision Sight Distance"]
["Available",null,0]
["Not Available",null,0.2]
[]
["Combined Use as Drainage"]
["Yes"]
["No"]
[]
["Does the WARM Require a Wildlife Crossing within Parcel Limits?"]
["Yes",null,"No cost to Landowner"]
["No"]